BEGIN:VCALENDAR
VERSION:2.0
PRODID:-//House of Levi Intl - ECPv6.8.3//NONSGML v1.0//EN
CALSCALE:GREGORIAN
METHOD:PUBLISH
X-WR-CALNAME:House of Levi Intl
X-ORIGINAL-URL:https://new.holintl.com
X-WR-CALDESC:Events for House of Levi Intl
REFRESH-INTERVAL;VALUE=DURATION:PT1H
X-Robots-Tag:noindex
X-PUBLISHED-TTL:PT1H
BEGIN:VTIMEZONE
TZID:UTC
BEGIN:STANDARD
TZOFFSETFROM:+0000
TZOFFSETTO:+0000
TZNAME:UTC
DTSTART:20230101T000000
END:STANDARD
TZID:Europe/London
BEGIN:DAYLIGHT
TZOFFSETFROM:+0000
TZOFFSETTO:+0100
TZNAME:BST
DTSTART:20230326T010000
END:DAYLIGHT
BEGIN:STANDARD
TZOFFSETFROM:+0100
TZOFFSETTO:+0000
TZNAME:GMT
DTSTART:20231029T010000
END:STANDARD
END:VTIMEZONE
BEGIN:VEVENT
DTSTART;TZID=UTC:20230806T120000
DTEND;TZID=UTC:20230828T160000
DTSTAMP:20260423T125532
CREATED:20190917T083047Z
LAST-MODIFIED:20230731T214939Z
UID:1946-1691323200-1693238400@new.holintl.com
SUMMARY:Community Outreach
DESCRIPTION:House of Levi Intl’s C4TN (Care 4 the Nations) is a registered charity\, working tirelessly to provide aid to the vulnerable in our local community as well as across the UK and internationally. We seek opportunities to show God’s heart through giving to the poor and those in need. Our main focus this year is helping the disadvantaged in our local community with food\, clothing and\, care packages weekly. \n\nFood\nCare Packages\nFellowship\n\nCome and join our services every Sunday in August where you can receive free food and personal packages. See you there!
URL:https://new.holintl.com/event/fresh-start-class/
LOCATION:House of Levi Intl’s Church\, Suffolks Primary School\, Enfield\, Brick Lane\, EN1 3PU\, United Kingdom
CATEGORIES:HOLI Event
ATTACH;FMTTYPE=image/jpeg:https://new.holintl.com/wp-content/uploads/2023/07/event-single-img1.jpg
END:VEVENT
BEGIN:VEVENT
DTSTART;TZID=Europe/London:20231014T190000
DTEND;TZID=Europe/London:20231014T210000
DTSTAMP:20260423T125532
CREATED:20230923T111451Z
LAST-MODIFIED:20230923T112143Z
UID:2797-1697310000-1697317200@new.holintl.com
SUMMARY:Mighty Works in Praise
DESCRIPTION:The House of Levi Intl’ invites you to a night of Praise. Come encounter salvation\, healing & restoration with Apostle Levi Morgan\, Pastor Deborah Morgan and Peter Francis. \n“About midnight\, as Paul and Silas were praying and singing hymns of praise to God\, suddenly there was a great earthquake\, such that the very foundations of the prison were shaken; at once all the doors were opened and everyone’s shackles were unfastened.”\n– Acts 16:25 – 26 AMPC \nSee you there!
URL:https://new.holintl.com/event/mighty-works-in-praise/
LOCATION:House of Levi Intl’s Church\, Suffolks Primary School\, Enfield\, Brick Lane\, EN1 3PU\, United Kingdom
CATEGORIES:HOLI Event
ATTACH;FMTTYPE=image/jpeg:https://new.holintl.com/wp-content/uploads/2023/09/event-single-img2.jpg
ORGANIZER;CN="House of Levi Intl":MAILTO:info@holintl.com
END:VEVENT
END:VCALENDAR